BEGIN:VCALENDAR
VERSION:2.0
PRODID:-//Stockholm Karting Center - ECPv4.7.3//NONSGML v1.0//EN
CALSCALE:GREGORIAN
METHOD:PUBLISH
X-WR-CALNAME:Stockholm Karting Center
X-ORIGINAL-URL:https://stockholmkartingcenter.com
X-WR-CALDESC:Events for Stockholm Karting Center
BEGIN:VEVENT
DTSTART;TZID=UTC-6:20240831T120000
DTEND;TZID=UTC-6:20240831T140000
DTSTAMP:20260425T121525
CREATED:20240711T192940Z
LAST-MODIFIED:20240711T192940Z
UID:3449-1725105600-1725112800@stockholmkartingcenter.com
SUMMARY:Private party 12:00-2:00 pm
DESCRIPTION:
URL:https://stockholmkartingcenter.com/event/private-party-1200-200-pm-107/
CATEGORIES:Upcoming Events
ATTACH;FMTTYPE=image/jpeg:https://stockholmkartingcenter.com/wp-content/uploads/2017/09/MGP10.jpg
END:VEVENT
BEGIN:VEVENT
DTSTART;TZID=UTC-6:20240831T140000
DTEND;TZID=UTC-6:20240831T160000
DTSTAMP:20260425T121525
CREATED:20240719T213315Z
LAST-MODIFIED:20240719T213315Z
UID:3478-1725112800-1725120000@stockholmkartingcenter.com
SUMMARY:Private party 2:00-4:00 pm
DESCRIPTION:
URL:https://stockholmkartingcenter.com/event/private-party-200-400-pm-116/
CATEGORIES:Upcoming Events
ATTACH;FMTTYPE=image/jpeg:https://stockholmkartingcenter.com/wp-content/uploads/2017/09/MGP8.jpg
END:VEVENT
BEGIN:VEVENT
DTSTART;TZID=UTC-6:20240831T160000
DTEND;TZID=UTC-6:20240831T180000
DTSTAMP:20260425T121525
CREATED:20240717T181800Z
LAST-MODIFIED:20240717T181800Z
UID:3461-1725120000-1725127200@stockholmkartingcenter.com
SUMMARY:Private party 4:00-6:00 pm
DESCRIPTION:
URL:https://stockholmkartingcenter.com/event/private-party-400-600-pm-79/
CATEGORIES:Upcoming Events
ATTACH;FMTTYPE=image/jpeg:https://stockholmkartingcenter.com/wp-content/uploads/2022/01/Website-photo-11.jpg
END:VEVENT
BEGIN:VEVENT
DTSTART;TZID=UTC-6:20240831T180000
DTEND;TZID=UTC-6:20240831T190000
DTSTAMP:20260425T121525
CREATED:20240822T154226Z
LAST-MODIFIED:20240822T154226Z
UID:3612-1725127200-1725130800@stockholmkartingcenter.com
SUMMARY:Open Rental Karting 6:00-7:00pm
DESCRIPTION:Open Rental Karting 6:00-7:00pm \n
URL:https://stockholmkartingcenter.com/event/open-rental-karting-600-700pm-15/
CATEGORIES:Upcoming Events
ATTACH;FMTTYPE=image/jpeg:https://stockholmkartingcenter.com/wp-content/uploads/2022/01/Website-photo-9.jpg
END:VEVENT
END:VCALENDAR