BEGIN:VCALENDAR
VERSION:2.0
PRODID:-//Stockholm Karting Center - ECPv4.7.3//NONSGML v1.0//EN
CALSCALE:GREGORIAN
METHOD:PUBLISH
X-WR-CALNAME:Stockholm Karting Center
X-ORIGINAL-URL:https://stockholmkartingcenter.com
X-WR-CALDESC:Events for Stockholm Karting Center
BEGIN:VEVENT
DTSTART;TZID=UTC-6:20240824T120000
DTEND;TZID=UTC-6:20240824T140000
DTSTAMP:20260425T121513
CREATED:20240626T223538Z
LAST-MODIFIED:20240626T223538Z
UID:3419-1724500800-1724508000@stockholmkartingcenter.com
SUMMARY:Private Party 12:00-2:00pm
DESCRIPTION:Private Party 12:00-2:00pm \n
URL:https://stockholmkartingcenter.com/event/private-party-1200-200pm-17/
CATEGORIES:Upcoming Events
ATTACH;FMTTYPE=image/jpeg:https://stockholmkartingcenter.com/wp-content/uploads/2021/05/IMG_3554.jpg
END:VEVENT
BEGIN:VEVENT
DTSTART;TZID=UTC-6:20240824T140000
DTEND;TZID=UTC-6:20240824T160000
DTSTAMP:20260425T121513
CREATED:20240511T022029Z
LAST-MODIFIED:20240818T194945Z
UID:3242-1724508000-1724515200@stockholmkartingcenter.com
SUMMARY:Open Rental Karting 2:00-4:00pm
DESCRIPTION:Open Rental Karting 2:00-4:00pm \n
URL:https://stockholmkartingcenter.com/event/private-party-200-400-pm-105/
CATEGORIES:Upcoming Events
ATTACH;FMTTYPE=image/jpeg:https://stockholmkartingcenter.com/wp-content/uploads/2017/09/MGP7.jpg
END:VEVENT
BEGIN:VEVENT
DTSTART;TZID=UTC-6:20240824T160000
DTEND;TZID=UTC-6:20240824T180000
DTSTAMP:20260425T121513
CREATED:20240721T205559Z
LAST-MODIFIED:20240721T205559Z
UID:3492-1724515200-1724522400@stockholmkartingcenter.com
SUMMARY:Private Party 4:00-6:00pm
DESCRIPTION:Private Party 4:00-6:00pm \n
URL:https://stockholmkartingcenter.com/event/private-party-400-600pm-10/
CATEGORIES:Upcoming Events
ATTACH;FMTTYPE=image/jpeg:https://stockholmkartingcenter.com/wp-content/uploads/2022/01/Website-photo-10.jpg
END:VEVENT
BEGIN:VEVENT
DTSTART;TZID=UTC-6:20240824T180000
DTEND;TZID=UTC-6:20240824T190000
DTSTAMP:20260425T121513
CREATED:20240818T195122Z
LAST-MODIFIED:20240818T195122Z
UID:3593-1724522400-1724526000@stockholmkartingcenter.com
SUMMARY:Open Rental Karting 6:00-7:00pm
DESCRIPTION:Open Rental Karting 6:00-7:00pm \n
URL:https://stockholmkartingcenter.com/event/open-rental-karting-600-700pm-12/
CATEGORIES:Upcoming Events
ATTACH;FMTTYPE=image/jpeg:https://stockholmkartingcenter.com/wp-content/uploads/2017/09/MGP8.jpg
END:VEVENT
END:VCALENDAR