BEGIN:VCALENDAR
VERSION:2.0
PRODID:-//Stockholm Karting Center - ECPv4.7.3//NONSGML v1.0//EN
CALSCALE:GREGORIAN
METHOD:PUBLISH
X-WR-CALNAME:Stockholm Karting Center
X-ORIGINAL-URL:https://stockholmkartingcenter.com
X-WR-CALDESC:Events for Stockholm Karting Center
BEGIN:VEVENT
DTSTART;TZID=UTC-6:20240823T120000
DTEND;TZID=UTC-6:20240823T140000
DTSTAMP:20260425T121524
CREATED:20240818T194659Z
LAST-MODIFIED:20240818T194659Z
UID:3588-1724414400-1724421600@stockholmkartingcenter.com
SUMMARY:Open Rental Karting 12:00-2:00pm
DESCRIPTION:Open Rental Karting 12:00-2:00pm \n
URL:https://stockholmkartingcenter.com/event/open-rental-karting-1200-200pm-6/
CATEGORIES:Upcoming Events
ATTACH;FMTTYPE=image/jpeg:https://stockholmkartingcenter.com/wp-content/uploads/2022/01/Website-photo-9.jpg
END:VEVENT
BEGIN:VEVENT
DTSTART;TZID=UTC-6:20240823T140000
DTEND;TZID=UTC-6:20240823T160000
DTSTAMP:20260425T121524
CREATED:20240810T211436Z
LAST-MODIFIED:20240810T211436Z
UID:3563-1724421600-1724428800@stockholmkartingcenter.com
SUMMARY:Private Party 2:00-4:00pm
DESCRIPTION:Private Party 2:00-4:00pm \n
URL:https://stockholmkartingcenter.com/event/private-party-200-400pm-13/
CATEGORIES:Upcoming Events
ATTACH;FMTTYPE=image/jpeg:https://stockholmkartingcenter.com/wp-content/uploads/2021/05/IMG_3554.jpg
END:VEVENT
BEGIN:VEVENT
DTSTART;TZID=UTC-6:20240823T160000
DTEND;TZID=UTC-6:20240823T180000
DTSTAMP:20260425T121524
CREATED:20240810T012004Z
LAST-MODIFIED:20240810T012004Z
UID:3548-1724428800-1724436000@stockholmkartingcenter.com
SUMMARY:Private party 4:00-6:00 pm
DESCRIPTION:
URL:https://stockholmkartingcenter.com/event/private-party-400-600-pm-84/
CATEGORIES:Upcoming Events
ATTACH;FMTTYPE=image/jpeg:https://stockholmkartingcenter.com/wp-content/uploads/2017/09/MGP7.jpg
END:VEVENT
BEGIN:VEVENT
DTSTART;TZID=UTC-6:20240823T180000
DTEND;TZID=UTC-6:20240823T190000
DTSTAMP:20260425T121524
CREATED:20240818T194811Z
LAST-MODIFIED:20240818T194811Z
UID:3590-1724436000-1724439600@stockholmkartingcenter.com
SUMMARY:Open Rental Karting 6:00-7:00pm
DESCRIPTION:Open Rental Karting 6:00-7:00pm \n
URL:https://stockholmkartingcenter.com/event/open-rental-karting-600-700pm-11/
CATEGORIES:Upcoming Events
ATTACH;FMTTYPE=image/jpeg:https://stockholmkartingcenter.com/wp-content/uploads/2021/05/2M3A0144.jpg
END:VEVENT
END:VCALENDAR