BEGIN:VCALENDAR
VERSION:2.0
PRODID:-//Stockholm Karting Center - ECPv4.7.3//NONSGML v1.0//EN
CALSCALE:GREGORIAN
METHOD:PUBLISH
X-WR-CALNAME:Stockholm Karting Center
X-ORIGINAL-URL:https://stockholmkartingcenter.com
X-WR-CALDESC:Events for Stockholm Karting Center
BEGIN:VEVENT
DTSTART;TZID=UTC-6:20240821T120000
DTEND;TZID=UTC-6:20240821T140000
DTSTAMP:20260425T121516
CREATED:20240710T152343Z
LAST-MODIFIED:20240710T152343Z
UID:3438-1724241600-1724248800@stockholmkartingcenter.com
SUMMARY:Private party 12:00-2:00 pm
DESCRIPTION:
URL:https://stockholmkartingcenter.com/event/private-party-1200-200-pm-106/
CATEGORIES:Upcoming Events
ATTACH;FMTTYPE=image/jpeg:https://stockholmkartingcenter.com/wp-content/uploads/2022/01/Website-photo-10.jpg
END:VEVENT
BEGIN:VEVENT
DTSTART;TZID=UTC-6:20240821T140000
DTEND;TZID=UTC-6:20240821T160000
DTSTAMP:20260425T121516
CREATED:20240731T190142Z
LAST-MODIFIED:20240731T190142Z
UID:3522-1724248800-1724256000@stockholmkartingcenter.com
SUMMARY:Private Party 2:00-4:00pm
DESCRIPTION:Private Party 2:00-4:00pm \n
URL:https://stockholmkartingcenter.com/event/private-party-200-400pm-10/
CATEGORIES:Upcoming Events
ATTACH;FMTTYPE=image/jpeg:https://stockholmkartingcenter.com/wp-content/uploads/2022/01/Website-photo-10.jpg
END:VEVENT
BEGIN:VEVENT
DTSTART;TZID=UTC-6:20240821T160000
DTEND;TZID=UTC-6:20240821T180000
DTSTAMP:20260425T121516
CREATED:20240802T155309Z
LAST-MODIFIED:20240802T155309Z
UID:3529-1724256000-1724263200@stockholmkartingcenter.com
SUMMARY:Private party 4:00-6:00 pm
DESCRIPTION:
URL:https://stockholmkartingcenter.com/event/private-party-400-600-pm-78/
CATEGORIES:Upcoming Events
ATTACH;FMTTYPE=image/jpeg:https://stockholmkartingcenter.com/wp-content/uploads/2022/01/Website-photo-11.jpg
END:VEVENT
BEGIN:VEVENT
DTSTART;TZID=UTC-6:20240821T180000
DTEND;TZID=UTC-6:20240821T190000
DTSTAMP:20260425T121516
CREATED:20240814T201725Z
LAST-MODIFIED:20240814T201725Z
UID:3577-1724263200-1724266800@stockholmkartingcenter.com
SUMMARY:Open Rental Karting 6:00-7:00pm
DESCRIPTION:Open Rental Karting 6:00-7:00pm \n
URL:https://stockholmkartingcenter.com/event/open-rental-karting-600-700pm-10/
CATEGORIES:Upcoming Events
ATTACH;FMTTYPE=image/jpeg:https://stockholmkartingcenter.com/wp-content/uploads/2021/05/2M3A0105.jpg
END:VEVENT
END:VCALENDAR