BEGIN:VCALENDAR
VERSION:2.0
PRODID:-//Stockholm Karting Center - ECPv4.7.3//NONSGML v1.0//EN
CALSCALE:GREGORIAN
METHOD:PUBLISH
X-WR-CALNAME:Stockholm Karting Center
X-ORIGINAL-URL:https://stockholmkartingcenter.com
X-WR-CALDESC:Events for Stockholm Karting Center
BEGIN:VEVENT
DTSTART;TZID=UTC-6:20240817T120000
DTEND;TZID=UTC-6:20240817T140000
DTSTAMP:20260425T121453
CREATED:20240613T164822Z
LAST-MODIFIED:20240621T232554Z
UID:3344-1723896000-1723903200@stockholmkartingcenter.com
SUMMARY:Private party 12:00-2:00 pm
DESCRIPTION:
URL:https://stockholmkartingcenter.com/event/private-party-400-600-pm-75/
CATEGORIES:Upcoming Events
ATTACH;FMTTYPE=image/jpeg:https://stockholmkartingcenter.com/wp-content/uploads/2017/09/MGP10.jpg
END:VEVENT
BEGIN:VEVENT
DTSTART;TZID=UTC-6:20240817T140000
DTEND;TZID=UTC-6:20240817T160000
DTSTAMP:20260425T121453
CREATED:20240526T121328Z
LAST-MODIFIED:20240526T121328Z
UID:3267-1723903200-1723910400@stockholmkartingcenter.com
SUMMARY:Private Party 2:00-4:00 pm
DESCRIPTION:
URL:https://stockholmkartingcenter.com/event/private-party-200-400-pm-106/
CATEGORIES:Upcoming Events
ATTACH;FMTTYPE=image/jpeg:https://stockholmkartingcenter.com/wp-content/uploads/2017/09/MGP7.jpg
END:VEVENT
BEGIN:VEVENT
DTSTART;TZID=UTC-6:20240817T160000
DTEND;TZID=UTC-6:20240817T180000
DTSTAMP:20260425T121453
CREATED:20240710T213032Z
LAST-MODIFIED:20240710T213032Z
UID:3440-1723910400-1723917600@stockholmkartingcenter.com
SUMMARY:Private Party 4:00-6:00pm
DESCRIPTION:Private Party 4:00-6:00pm \n
URL:https://stockholmkartingcenter.com/event/private-party-400-600pm-9/
CATEGORIES:Upcoming Events
ATTACH;FMTTYPE=image/jpeg:https://stockholmkartingcenter.com/wp-content/uploads/2022/01/Website-photo-10.jpg
END:VEVENT
BEGIN:VEVENT
DTSTART;TZID=UTC-6:20240817T180000
DTEND;TZID=UTC-6:20240817T190000
DTSTAMP:20260425T121453
CREATED:20240810T153540Z
LAST-MODIFIED:20240810T153540Z
UID:3558-1723917600-1723921200@stockholmkartingcenter.com
SUMMARY:Open Rental Karting 6:00-7:00pm
DESCRIPTION:Open Rental Karting 6:00-7:00pm \n
URL:https://stockholmkartingcenter.com/event/open-rental-karting-600-700pm-8/
CATEGORIES:Upcoming Events
ATTACH;FMTTYPE=image/jpeg:https://stockholmkartingcenter.com/wp-content/uploads/2022/01/Website-photo-10.jpg
END:VEVENT
END:VCALENDAR