BEGIN:VCALENDAR
VERSION:2.0
PRODID:-//Stockholm Karting Center - ECPv4.7.3//NONSGML v1.0//EN
CALSCALE:GREGORIAN
METHOD:PUBLISH
X-WR-CALNAME:Stockholm Karting Center
X-ORIGINAL-URL:https://stockholmkartingcenter.com
X-WR-CALDESC:Events for Stockholm Karting Center
BEGIN:VEVENT
DTSTART;TZID=UTC-6:20240814T120000
DTEND;TZID=UTC-6:20240814T190000
DTSTAMP:20260425T152013
CREATED:20240809T145427Z
LAST-MODIFIED:20240809T145427Z
UID:3544-1723636800-1723662000@stockholmkartingcenter.com
SUMMARY:Open Rental Karting 12:00-7:00 pm
DESCRIPTION:
URL:https://stockholmkartingcenter.com/event/open-rental-karting-1200-700-pm/
CATEGORIES:Upcoming Events
ATTACH;FMTTYPE=image/jpeg:https://stockholmkartingcenter.com/wp-content/uploads/2022/01/Website-photo-11.jpg
END:VEVENT
END:VCALENDAR