BEGIN:VCALENDAR
VERSION:2.0
PRODID:-//Stockholm Karting Center - ECPv4.7.3//NONSGML v1.0//EN
CALSCALE:GREGORIAN
METHOD:PUBLISH
X-WR-CALNAME:Stockholm Karting Center
X-ORIGINAL-URL:https://stockholmkartingcenter.com
X-WR-CALDESC:Events for Stockholm Karting Center
BEGIN:VEVENT
DTSTART;TZID=UTC-6:20240803T120000
DTEND;TZID=UTC-6:20240803T140000
DTSTAMP:20260425T105751
CREATED:20240524T023032Z
LAST-MODIFIED:20240524T023032Z
UID:3261-1722686400-1722693600@stockholmkartingcenter.com
SUMMARY:Private party 12:00-2:00 pm
DESCRIPTION:
URL:https://stockholmkartingcenter.com/event/private-party-1200-200-pm-98/
CATEGORIES:Upcoming Events
ATTACH;FMTTYPE=image/jpeg:https://stockholmkartingcenter.com/wp-content/uploads/2017/09/MGP8.jpg
END:VEVENT
BEGIN:VEVENT
DTSTART;TZID=UTC-6:20240803T140000
DTEND;TZID=UTC-6:20240803T160000
DTSTAMP:20260425T105751
CREATED:20240502T195914Z
LAST-MODIFIED:20240502T195914Z
UID:3226-1722693600-1722700800@stockholmkartingcenter.com
SUMMARY:Private Party 2:00-4:00pm
DESCRIPTION:Private Party 2:00-4:00pm \n
URL:https://stockholmkartingcenter.com/event/private-party-200-400pm-7/
CATEGORIES:Upcoming Events
ATTACH;FMTTYPE=image/jpeg:https://stockholmkartingcenter.com/wp-content/uploads/2020/01/Mini-GP-Website-pic.jpg
END:VEVENT
BEGIN:VEVENT
DTSTART;TZID=UTC-6:20240803T160000
DTEND;TZID=UTC-6:20240803T180000
DTSTAMP:20260425T105751
CREATED:20240718T175706Z
LAST-MODIFIED:20240718T175706Z
UID:3467-1722700800-1722708000@stockholmkartingcenter.com
SUMMARY:Private party 4:00-6:00 pm
DESCRIPTION:
URL:https://stockholmkartingcenter.com/event/private-party-400-600-pm-80/
CATEGORIES:Upcoming Events
ATTACH;FMTTYPE=image/jpeg:https://stockholmkartingcenter.com/wp-content/uploads/2017/09/MGP8.jpg
END:VEVENT
BEGIN:VEVENT
DTSTART;TZID=UTC-6:20240803T180000
DTEND;TZID=UTC-6:20240803T190000
DTSTAMP:20260425T105751
CREATED:20240727T171210Z
LAST-MODIFIED:20240727T171210Z
UID:3512-1722708000-1722711600@stockholmkartingcenter.com
SUMMARY:Open Rental Karting 6:00-7:00pm
DESCRIPTION:Open Rental Karting 6:00-7:00pm \n
URL:https://stockholmkartingcenter.com/event/open-rental-karting-600-700pm-6/
CATEGORIES:Upcoming Events
ATTACH;FMTTYPE=image/jpeg:https://stockholmkartingcenter.com/wp-content/uploads/2021/05/2M3A0105.jpg
END:VEVENT
END:VCALENDAR