BEGIN:VCALENDAR
VERSION:2.0
PRODID:-//Stockholm Karting Center - ECPv4.7.3//NONSGML v1.0//EN
CALSCALE:GREGORIAN
METHOD:PUBLISH
X-WR-CALNAME:Stockholm Karting Center
X-ORIGINAL-URL:https://stockholmkartingcenter.com
X-WR-CALDESC:Events for Stockholm Karting Center
BEGIN:VEVENT
DTSTART;TZID=UTC-6:20240731T120000
DTEND;TZID=UTC-6:20240731T140000
DTSTAMP:20260425T105752
CREATED:20240725T153605Z
LAST-MODIFIED:20240725T153605Z
UID:3505-1722427200-1722434400@stockholmkartingcenter.com
SUMMARY:Open Rental Karting 12:00-2:00pm
DESCRIPTION:Open Rental Karting 12:00-2:00pm \n
URL:https://stockholmkartingcenter.com/event/open-rental-karting-1200-200pm-4/
CATEGORIES:Upcoming Events
ATTACH;FMTTYPE=image/jpeg:https://stockholmkartingcenter.com/wp-content/uploads/2021/05/IMG_3672.jpg
END:VEVENT
BEGIN:VEVENT
DTSTART;TZID=UTC-6:20240731T140000
DTEND;TZID=UTC-6:20240731T160000
DTSTAMP:20260425T105752
CREATED:20240612T200021Z
LAST-MODIFIED:20240612T200021Z
UID:3338-1722434400-1722441600@stockholmkartingcenter.com
SUMMARY:Private party 2:00-4:00 pm
DESCRIPTION:
URL:https://stockholmkartingcenter.com/event/private-party-200-400-pm-109/
CATEGORIES:Upcoming Events
ATTACH;FMTTYPE=image/jpeg:https://stockholmkartingcenter.com/wp-content/uploads/2022/01/Website-photo-9.jpg
END:VEVENT
BEGIN:VEVENT
DTSTART;TZID=UTC-6:20240731T160000
DTEND;TZID=UTC-6:20240731T180000
DTSTAMP:20260425T105752
CREATED:20240711T195235Z
LAST-MODIFIED:20240711T195235Z
UID:3451-1722441600-1722448800@stockholmkartingcenter.com
SUMMARY:Private party 4:00-6:00 pm
DESCRIPTION:
URL:https://stockholmkartingcenter.com/event/private-party-400-600-pm-77/
CATEGORIES:Upcoming Events
ATTACH;FMTTYPE=image/jpeg:https://stockholmkartingcenter.com/wp-content/uploads/2017/09/MGP8.jpg
END:VEVENT
BEGIN:VEVENT
DTSTART;TZID=UTC-6:20240731T180000
DTEND;TZID=UTC-6:20240731T190000
DTSTAMP:20260425T105752
CREATED:20240725T153656Z
LAST-MODIFIED:20240725T153656Z
UID:3507-1722448800-1722452400@stockholmkartingcenter.com
SUMMARY:Open Rental Karting 6:00-7:00pm
DESCRIPTION:Open Rental Karting 6:00-7:00pm \n
URL:https://stockholmkartingcenter.com/event/open-rental-karting-600-700pm-4/
CATEGORIES:Upcoming Events
ATTACH;FMTTYPE=image/jpeg:https://stockholmkartingcenter.com/wp-content/uploads/2021/05/IMG_3554.jpg
END:VEVENT
END:VCALENDAR