BEGIN:VCALENDAR
VERSION:2.0
PRODID:-//Stockholm Karting Center - ECPv4.7.3//NONSGML v1.0//EN
CALSCALE:GREGORIAN
METHOD:PUBLISH
X-WR-CALNAME:Stockholm Karting Center
X-ORIGINAL-URL:https://stockholmkartingcenter.com
X-WR-CALDESC:Events for Stockholm Karting Center
BEGIN:VEVENT
DTSTART;TZID=UTC-6:20240724T120000
DTEND;TZID=UTC-6:20240724T140000
DTSTAMP:20260425T105753
CREATED:20240720T215312Z
LAST-MODIFIED:20240720T215312Z
UID:3486-1721822400-1721829600@stockholmkartingcenter.com
SUMMARY:Open Rental Karting 12:00-2:00pm
DESCRIPTION:Open Rental Karting 12:00-2:00pm \n
URL:https://stockholmkartingcenter.com/event/open-rental-karting-1200-200pm-3/
CATEGORIES:Upcoming Events
ATTACH;FMTTYPE=image/jpeg:https://stockholmkartingcenter.com/wp-content/uploads/2021/05/IMG_3672.jpg
END:VEVENT
BEGIN:VEVENT
DTSTART;TZID=UTC-6:20240724T140000
DTEND;TZID=UTC-6:20240724T160000
DTSTAMP:20260425T105753
CREATED:20240607T204208Z
LAST-MODIFIED:20240607T204404Z
UID:3312-1721829600-1721836800@stockholmkartingcenter.com
SUMMARY:Private Party 2:00-4:00pm
DESCRIPTION:Private Party 2:00-4:00pm \n
URL:https://stockholmkartingcenter.com/event/private-party-200-400pm-9/
CATEGORIES:Upcoming Events
ATTACH;FMTTYPE=image/jpeg:https://stockholmkartingcenter.com/wp-content/uploads/2021/05/2M3A0144.jpg
END:VEVENT
BEGIN:VEVENT
DTSTART;TZID=UTC-6:20240724T160000
DTEND;TZID=UTC-6:20240724T180000
DTSTAMP:20260425T105753
CREATED:20240612T173133Z
LAST-MODIFIED:20240612T173133Z
UID:3334-1721836800-1721844000@stockholmkartingcenter.com
SUMMARY:Private party 4:00-6:00 pm
DESCRIPTION:
URL:https://stockholmkartingcenter.com/event/private-party-400-600-pm-74/
CATEGORIES:Upcoming Events
ATTACH;FMTTYPE=image/jpeg:https://stockholmkartingcenter.com/wp-content/uploads/2017/03/rental-karts2.jpg
END:VEVENT
BEGIN:VEVENT
DTSTART;TZID=UTC-6:20240724T180000
DTEND;TZID=UTC-6:20240724T200000
DTSTAMP:20260425T105753
CREATED:20240628T184023Z
LAST-MODIFIED:20240628T184023Z
UID:3423-1721844000-1721851200@stockholmkartingcenter.com
SUMMARY:Private Party 6:00-8:00pm
DESCRIPTION:Private Party 6:00-8:00pm \n
URL:https://stockholmkartingcenter.com/event/private-party-600-800pm/
CATEGORIES:Upcoming Events
ATTACH;FMTTYPE=image/jpeg:https://stockholmkartingcenter.com/wp-content/uploads/2022/01/Website-photo-10.jpg
END:VEVENT
END:VCALENDAR