BEGIN:VCALENDAR
VERSION:2.0
PRODID:-//Stockholm Karting Center - ECPv4.7.3//NONSGML v1.0//EN
CALSCALE:GREGORIAN
METHOD:PUBLISH
X-WR-CALNAME:Stockholm Karting Center
X-ORIGINAL-URL:https://stockholmkartingcenter.com
X-WR-CALDESC:Events for Stockholm Karting Center
BEGIN:VEVENT
DTSTART;TZID=UTC-6:20240720T120000
DTEND;TZID=UTC-6:20240720T140000
DTSTAMP:20260425T121513
CREATED:20240404T204746Z
LAST-MODIFIED:20240404T204746Z
UID:3158-1721476800-1721484000@stockholmkartingcenter.com
SUMMARY:Private party 12:00-2:00 pm
DESCRIPTION:
URL:https://stockholmkartingcenter.com/event/private-party-1200-200-pm-92/
CATEGORIES:Upcoming Events
ATTACH;FMTTYPE=image/jpeg:https://stockholmkartingcenter.com/wp-content/uploads/2022/01/Website-photo-10.jpg
END:VEVENT
BEGIN:VEVENT
DTSTART;TZID=UTC-6:20240720T140000
DTEND;TZID=UTC-6:20240720T160000
DTSTAMP:20260425T121513
CREATED:20240622T203249Z
LAST-MODIFIED:20240622T203249Z
UID:3403-1721484000-1721491200@stockholmkartingcenter.com
SUMMARY:Private party 2:00-4:00 pm
DESCRIPTION:
URL:https://stockholmkartingcenter.com/event/private-party-200-400-pm-112/
CATEGORIES:Upcoming Events
ATTACH;FMTTYPE=image/jpeg:https://stockholmkartingcenter.com/wp-content/uploads/2017/09/MGP7.jpg
END:VEVENT
BEGIN:VEVENT
DTSTART;TZID=UTC-6:20240720T160000
DTEND;TZID=UTC-6:20240720T180000
DTSTAMP:20260425T121513
CREATED:20240602T001359Z
LAST-MODIFIED:20240602T002209Z
UID:3294-1721491200-1721498400@stockholmkartingcenter.com
SUMMARY:Private Party 4:00-6:00pm
DESCRIPTION:Private Party 4:00-6:00pm \n
URL:https://stockholmkartingcenter.com/event/private-party-400-600pm-7/
CATEGORIES:Upcoming Events
ATTACH;FMTTYPE=image/jpeg:https://stockholmkartingcenter.com/wp-content/uploads/2020/01/Mini-GP-Website-pic.jpg
END:VEVENT
END:VCALENDAR