BEGIN:VCALENDAR
VERSION:2.0
PRODID:-//Stockholm Karting Center - ECPv4.7.3//NONSGML v1.0//EN
CALSCALE:GREGORIAN
METHOD:PUBLISH
X-WR-CALNAME:Stockholm Karting Center
X-ORIGINAL-URL:https://stockholmkartingcenter.com
X-WR-CALDESC:Events for Stockholm Karting Center
BEGIN:VEVENT
DTSTART;VALUE=DATE:20240704
DTEND;VALUE=DATE:20240710
DTSTAMP:20260426T032230
CREATED:20240609T172451Z
LAST-MODIFIED:20240702T121055Z
UID:3326-1720051200-1720569599@stockholmkartingcenter.com
SUMMARY:Track closed Happy 4th of July
DESCRIPTION:
URL:https://stockholmkartingcenter.com/event/closed-july-4th-9th/
CATEGORIES:Upcoming Events
ATTACH;FMTTYPE=image/jpeg:https://stockholmkartingcenter.com/wp-content/uploads/2019/06/closed-sign.jpg
END:VEVENT
END:VCALENDAR