BEGIN:VCALENDAR
VERSION:2.0
PRODID:-//Stockholm Karting Center - ECPv4.7.3//NONSGML v1.0//EN
CALSCALE:GREGORIAN
METHOD:PUBLISH
X-WR-CALNAME:Stockholm Karting Center
X-ORIGINAL-URL:https://stockholmkartingcenter.com
X-WR-CALDESC:Events for Stockholm Karting Center
BEGIN:VEVENT
DTSTART;TZID=UTC-6:20240626T100000
DTEND;TZID=UTC-6:20240626T130000
DTSTAMP:20260426T004344
CREATED:20240607T204759Z
LAST-MODIFIED:20240607T204759Z
UID:3319-1719396000-1719406800@stockholmkartingcenter.com
SUMMARY:Private Party 10:00-1:00pm
DESCRIPTION:Private Party 10:00-1:00pm \n
URL:https://stockholmkartingcenter.com/event/private-party-1000-100pm/
CATEGORIES:Upcoming Events
ATTACH;FMTTYPE=image/jpeg:https://stockholmkartingcenter.com/wp-content/uploads/2021/05/2M3A0144.jpg
END:VEVENT
BEGIN:VEVENT
DTSTART;TZID=UTC-6:20240626T130000
DTEND;TZID=UTC-6:20240626T150000
DTSTAMP:20260426T004344
CREATED:20240613T164555Z
LAST-MODIFIED:20240621T143647Z
UID:3340-1719406800-1719414000@stockholmkartingcenter.com
SUMMARY:Private party 1:00-3:00 pm
DESCRIPTION:
URL:https://stockholmkartingcenter.com/event/private-party-1200-200-pm-102/
CATEGORIES:Upcoming Events
ATTACH;FMTTYPE=image/jpeg:https://stockholmkartingcenter.com/wp-content/uploads/2021/05/IMG_3672.jpg
END:VEVENT
BEGIN:VEVENT
DTSTART;TZID=UTC-6:20240626T150000
DTEND;TZID=UTC-6:20240626T190000
DTSTAMP:20260426T004344
CREATED:20240623T174151Z
LAST-MODIFIED:20240623T174151Z
UID:3407-1719414000-1719428400@stockholmkartingcenter.com
SUMMARY:Open Rental Karting 3:00-7:00pm
DESCRIPTION:Open Rental Karting 3:00-7:00pm \n
URL:https://stockholmkartingcenter.com/event/open-rental-karting-300-700pm/
CATEGORIES:Upcoming Events
ATTACH;FMTTYPE=image/jpeg:https://stockholmkartingcenter.com/wp-content/uploads/2021/05/2M3A0144.jpg
END:VEVENT
END:VCALENDAR