BEGIN:VCALENDAR
VERSION:2.0
PRODID:-//Stockholm Karting Center - ECPv4.7.3//NONSGML v1.0//EN
CALSCALE:GREGORIAN
METHOD:PUBLISH
X-WR-CALNAME:Stockholm Karting Center
X-ORIGINAL-URL:https://stockholmkartingcenter.com
X-WR-CALDESC:Events for Stockholm Karting Center
BEGIN:VEVENT
DTSTART;TZID=UTC-6:20240623T120000
DTEND;TZID=UTC-6:20240623T140000
DTSTAMP:20260425T203126
CREATED:20240524T194625Z
LAST-MODIFIED:20240524T194625Z
UID:3263-1719144000-1719151200@stockholmkartingcenter.com
SUMMARY:Private party 12:00-2:00 pm
DESCRIPTION:
URL:https://stockholmkartingcenter.com/event/private-party-1200-200-pm-99/
CATEGORIES:Upcoming Events
ATTACH;FMTTYPE=image/jpeg:https://stockholmkartingcenter.com/wp-content/uploads/2017/09/MGP7.jpg
END:VEVENT
BEGIN:VEVENT
DTSTART;TZID=UTC-6:20240623T140000
DTEND;TZID=UTC-6:20240623T160000
DTSTAMP:20260425T203126
CREATED:20240613T180642Z
LAST-MODIFIED:20240613T180642Z
UID:3346-1719151200-1719158400@stockholmkartingcenter.com
SUMMARY:Private party 2:00-4:00 pm
DESCRIPTION:
URL:https://stockholmkartingcenter.com/event/private-party-200-400-pm-110/
CATEGORIES:Upcoming Events
ATTACH;FMTTYPE=image/jpeg:https://stockholmkartingcenter.com/wp-content/uploads/2017/03/rental-karts2.jpg
END:VEVENT
BEGIN:VEVENT
DTSTART;TZID=UTC-6:20240623T160000
DTEND;TZID=UTC-6:20240623T190000
DTSTAMP:20260425T203126
CREATED:20240619T174702Z
LAST-MODIFIED:20240619T174835Z
UID:3382-1719158400-1719169200@stockholmkartingcenter.com
SUMMARY:Open Karting Rentals 4:00-7:00pm
DESCRIPTION:Open Karting Rentals 4:00-7:00pm \n
URL:https://stockholmkartingcenter.com/event/open-karting-rentals-400-800pm/
CATEGORIES:Upcoming Events
ATTACH;FMTTYPE=image/jpeg:https://stockholmkartingcenter.com/wp-content/uploads/2021/05/2M3A0105.jpg
END:VEVENT
END:VCALENDAR