BEGIN:VCALENDAR
VERSION:2.0
PRODID:-//Stockholm Karting Center - ECPv4.7.3//NONSGML v1.0//EN
CALSCALE:GREGORIAN
METHOD:PUBLISH
X-WR-CALNAME:Stockholm Karting Center
X-ORIGINAL-URL:https://stockholmkartingcenter.com
X-WR-CALDESC:Events for Stockholm Karting Center
BEGIN:VEVENT
DTSTART;TZID=UTC-6:20240622T120000
DTEND;TZID=UTC-6:20240622T140000
DTSTAMP:20260425T190647
CREATED:20240425T171122Z
LAST-MODIFIED:20240618T233920Z
UID:3211-1719057600-1719064800@stockholmkartingcenter.com
SUMMARY:Private Party 12:00-2:00pm
DESCRIPTION:
URL:https://stockholmkartingcenter.com/event/private-party-1200-200pm-9/
CATEGORIES:Upcoming Events
ATTACH;FMTTYPE=image/jpeg:https://stockholmkartingcenter.com/wp-content/uploads/2022/01/Website-photo-10.jpg
END:VEVENT
BEGIN:VEVENT
DTSTART;TZID=UTC-6:20240622T140000
DTEND;TZID=UTC-6:20240622T160000
DTSTAMP:20260425T190647
CREATED:20240502T200322Z
LAST-MODIFIED:20240502T200322Z
UID:3230-1719064800-1719072000@stockholmkartingcenter.com
SUMMARY:Private Party 2:00-4:00pm
DESCRIPTION:Private Party 2:00-4:00pm \n
URL:https://stockholmkartingcenter.com/event/private-party-200-400pm-8/
CATEGORIES:Upcoming Events
ATTACH;FMTTYPE=image/jpeg:https://stockholmkartingcenter.com/wp-content/uploads/2022/01/Website-photo-9.jpg
END:VEVENT
BEGIN:VEVENT
DTSTART;TZID=UTC-6:20240622T160000
DTEND;TZID=UTC-6:20240622T190000
DTSTAMP:20260425T190647
CREATED:20240614T234843Z
LAST-MODIFIED:20240618T234021Z
UID:3367-1719072000-1719082800@stockholmkartingcenter.com
SUMMARY:Open Rental Karting 4:00-7:00pm
DESCRIPTION:
URL:https://stockholmkartingcenter.com/event/open-rental-karting-600-700pm/
CATEGORIES:Upcoming Events
ATTACH;FMTTYPE=image/jpeg:https://stockholmkartingcenter.com/wp-content/uploads/2021/05/IMG_3554.jpg
END:VEVENT
END:VCALENDAR