BEGIN:VCALENDAR
VERSION:2.0
PRODID:-//Stockholm Karting Center - ECPv4.7.3//NONSGML v1.0//EN
CALSCALE:GREGORIAN
METHOD:PUBLISH
X-WR-CALNAME:Stockholm Karting Center
X-ORIGINAL-URL:https://stockholmkartingcenter.com
X-WR-CALDESC:Events for Stockholm Karting Center
BEGIN:VEVENT
DTSTART;TZID=UTC-6:20240621T160000
DTEND;TZID=UTC-6:20240621T190000
DTSTAMP:20260425T174543
CREATED:20240621T145129Z
LAST-MODIFIED:20240621T145129Z
UID:3394-1718985600-1718996400@stockholmkartingcenter.com
SUMMARY:No Rental Karts Do To Weather
DESCRIPTION:
URL:https://stockholmkartingcenter.com/event/no-rental-karts-do-to-weather/
CATEGORIES:Upcoming Events
END:VEVENT
END:VCALENDAR