BEGIN:VCALENDAR
VERSION:2.0
PRODID:-//Stockholm Karting Center - ECPv4.7.3//NONSGML v1.0//EN
CALSCALE:GREGORIAN
METHOD:PUBLISH
X-WR-CALNAME:Stockholm Karting Center
X-ORIGINAL-URL:https://stockholmkartingcenter.com
X-WR-CALDESC:Events for Stockholm Karting Center
BEGIN:VEVENT
DTSTART;TZID=UTC-6:20240620T120000
DTEND;TZID=UTC-6:20240620T190000
DTSTAMP:20260425T162714
CREATED:20240614T230611Z
LAST-MODIFIED:20240619T182754Z
UID:3359-1718884800-1718910000@stockholmkartingcenter.com
SUMMARY:Open Rental Karting 12:00-7:00pm
DESCRIPTION:Open Rental Karting 12:00-7:00pm \n
URL:https://stockholmkartingcenter.com/event/open-rental-karting-2/
CATEGORIES:Upcoming Events
ATTACH;FMTTYPE=image/jpeg:https://stockholmkartingcenter.com/wp-content/uploads/2022/01/Website-photo-10.jpg
END:VEVENT
END:VCALENDAR