BEGIN:VCALENDAR
VERSION:2.0
PRODID:-//Stockholm Karting Center - ECPv4.7.3//NONSGML v1.0//EN
CALSCALE:GREGORIAN
METHOD:PUBLISH
X-WR-CALNAME:Stockholm Karting Center
X-ORIGINAL-URL:https://stockholmkartingcenter.com
X-WR-CALDESC:Events for Stockholm Karting Center
BEGIN:VEVENT
DTSTART;TZID=UTC-6:20240616T120000
DTEND;TZID=UTC-6:20240616T140000
DTSTAMP:20260425T105754
CREATED:20240501T151321Z
LAST-MODIFIED:20240501T151321Z
UID:3219-1718539200-1718546400@stockholmkartingcenter.com
SUMMARY:Private party 12:00-2:00 pm
DESCRIPTION:
URL:https://stockholmkartingcenter.com/event/private-party-1200-200-pm-95/
CATEGORIES:Upcoming Events
ATTACH;FMTTYPE=image/jpeg:https://stockholmkartingcenter.com/wp-content/uploads/2022/01/Website-photo-10.jpg
END:VEVENT
BEGIN:VEVENT
DTSTART;TZID=UTC-6:20240616T140000
DTEND;TZID=UTC-6:20240616T160000
DTSTAMP:20260425T105754
CREATED:20240510T151147Z
LAST-MODIFIED:20240510T151147Z
UID:3235-1718546400-1718553600@stockholmkartingcenter.com
SUMMARY:Private party 2:00-4:00 pm
DESCRIPTION:
URL:https://stockholmkartingcenter.com/event/private-party-200-400-pm-104/
CATEGORIES:Upcoming Events
END:VEVENT
END:VCALENDAR