BEGIN:VCALENDAR
VERSION:2.0
PRODID:-//Stockholm Karting Center - ECPv4.7.3//NONSGML v1.0//EN
CALSCALE:GREGORIAN
METHOD:PUBLISH
X-WR-CALNAME:Stockholm Karting Center
X-ORIGINAL-URL:https://stockholmkartingcenter.com
X-WR-CALDESC:Events for Stockholm Karting Center
BEGIN:VEVENT
DTSTART;TZID=UTC-6:20240614T120000
DTEND;TZID=UTC-6:20240614T140000
DTSTAMP:20260425T105754
CREATED:20240524T194741Z
LAST-MODIFIED:20240524T194741Z
UID:3265-1718366400-1718373600@stockholmkartingcenter.com
SUMMARY:Private party 12:00-2:00 pm
DESCRIPTION:
URL:https://stockholmkartingcenter.com/event/private-party-1200-200-pm-100/
CATEGORIES:Upcoming Events
ATTACH;FMTTYPE=image/jpeg:https://stockholmkartingcenter.com/wp-content/uploads/2022/01/Website-photo-10.jpg
END:VEVENT
BEGIN:VEVENT
DTSTART;TZID=UTC-6:20240614T140000
DTEND;TZID=UTC-6:20240614T190000
DTSTAMP:20260425T105754
CREATED:20240609T123156Z
LAST-MODIFIED:20240609T123156Z
UID:3324-1718373600-1718391600@stockholmkartingcenter.com
SUMMARY:Open Rental Karting 2:00-7:00 pm
DESCRIPTION:
URL:https://stockholmkartingcenter.com/event/open-rental-karting-200-700-pm-2/
CATEGORIES:Upcoming Events
ATTACH;FMTTYPE=image/jpeg:https://stockholmkartingcenter.com/wp-content/uploads/2022/01/Website-photo-9.jpg
END:VEVENT
END:VCALENDAR