BEGIN:VCALENDAR
VERSION:2.0
PRODID:-//Stockholm Karting Center - ECPv4.7.3//NONSGML v1.0//EN
CALSCALE:GREGORIAN
METHOD:PUBLISH
X-WR-CALNAME:Stockholm Karting Center
X-ORIGINAL-URL:https://stockholmkartingcenter.com
X-WR-CALDESC:Events for Stockholm Karting Center
BEGIN:VEVENT
DTSTART;TZID=UTC-6:20240605T120000
DTEND;TZID=UTC-6:20240605T140000
DTSTAMP:20260425T232612
CREATED:20240529T193651Z
LAST-MODIFIED:20240529T193651Z
UID:3275-1717588800-1717596000@stockholmkartingcenter.com
SUMMARY:Private Party 12:00-2:00pm
DESCRIPTION:Private Party 12:00-2:00pm \n
URL:https://stockholmkartingcenter.com/event/private-party-1200-200pm-11/
CATEGORIES:Upcoming Events
ATTACH;FMTTYPE=image/jpeg:https://stockholmkartingcenter.com/wp-content/uploads/2022/01/Website-photo-10.jpg
END:VEVENT
BEGIN:VEVENT
DTSTART;TZID=UTC-6:20240605T140000
DTEND;TZID=UTC-6:20240605T190000
DTSTAMP:20260425T232612
CREATED:20240529T215522Z
LAST-MODIFIED:20240531T222602Z
UID:3281-1717596000-1717614000@stockholmkartingcenter.com
SUMMARY:Open Rental Karting 2:00-7:00pm
DESCRIPTION:Open Rental Karting 2:00-7:00pm \n
URL:https://stockholmkartingcenter.com/event/open-rental-karting-200-800pm/
CATEGORIES:Upcoming Events
ATTACH;FMTTYPE=image/jpeg:https://stockholmkartingcenter.com/wp-content/uploads/2021/05/IMG_3672.jpg
END:VEVENT
END:VCALENDAR