BEGIN:VCALENDAR
VERSION:2.0
PRODID:-//Stockholm Karting Center - ECPv4.7.3//NONSGML v1.0//EN
CALSCALE:GREGORIAN
METHOD:PUBLISH
X-WR-CALNAME:Stockholm Karting Center
X-ORIGINAL-URL:https://stockholmkartingcenter.com
X-WR-CALDESC:Events for Stockholm Karting Center
BEGIN:VEVENT
DTSTART;VALUE=DATE:20240502
DTEND;VALUE=DATE:20240503
DTSTAMP:20260422T105559
CREATED:20240418T131416Z
LAST-MODIFIED:20240418T131416Z
UID:3199-1714608000-1714694399@stockholmkartingcenter.com
SUMMARY:TRACK CLOSED (NO RENTALS)
DESCRIPTION:
URL:https://stockholmkartingcenter.com/event/track-closed-no-rentals/
CATEGORIES:Upcoming Events
ATTACH;FMTTYPE=image/jpeg:https://stockholmkartingcenter.com/wp-content/uploads/2019/06/closed-sign.jpg
END:VEVENT
END:VCALENDAR