BEGIN:VCALENDAR
VERSION:2.0
PRODID:-//Stockholm Karting Center - ECPv4.7.3//NONSGML v1.0//EN
CALSCALE:GREGORIAN
METHOD:PUBLISH
X-WR-CALNAME:Stockholm Karting Center
X-ORIGINAL-URL:https://stockholmkartingcenter.com
X-WR-CALDESC:Events for Stockholm Karting Center
BEGIN:VEVENT
DTSTART;VALUE=DATE:20231027
DTEND;VALUE=DATE:20231028
DTSTAMP:20260420T094542
CREATED:20230827T235719Z
LAST-MODIFIED:20230827T235719Z
UID:2995-1698364800-1698451199@stockholmkartingcenter.com
SUMMARY:Track Closed (All day)
DESCRIPTION:
URL:https://stockholmkartingcenter.com/event/track-closed-all-day-3/
CATEGORIES:Upcoming Events
ATTACH;FMTTYPE=image/jpeg:https://stockholmkartingcenter.com/wp-content/uploads/2019/06/closed-sign.jpg
END:VEVENT
END:VCALENDAR