BEGIN:VCALENDAR
VERSION:2.0
PRODID:-//Stockholm Karting Center - ECPv4.7.3//NONSGML v1.0//EN
CALSCALE:GREGORIAN
METHOD:PUBLISH
X-WR-CALNAME:Stockholm Karting Center
X-ORIGINAL-URL:https://stockholmkartingcenter.com
X-WR-CALDESC:Events for Stockholm Karting Center
BEGIN:VEVENT
DTSTART;VALUE=DATE:20240630
DTEND;VALUE=DATE:20240701
DTSTAMP:20260425T105424
CREATED:20240226T224903Z
LAST-MODIFIED:20240226T224903Z
UID:3086-1719705600-1719791999@stockholmkartingcenter.com
SUMMARY:SKC Race Day # 8
DESCRIPTION:
URL:https://stockholmkartingcenter.com/event/skc-race-day-8-4/
CATEGORIES:Upcoming Events
ATTACH;FMTTYPE=image/jpeg:https://stockholmkartingcenter.com/wp-content/uploads/2022/01/Website-photo-3.jpg
END:VEVENT
END:VCALENDAR