BEGIN:VCALENDAR
VERSION:2.0
PRODID:-//Stockholm Karting Center - ECPv4.7.3//NONSGML v1.0//EN
CALSCALE:GREGORIAN
METHOD:PUBLISH
X-WR-CALNAME:Stockholm Karting Center
X-ORIGINAL-URL:https://stockholmkartingcenter.com
X-WR-CALDESC:Events for Stockholm Karting Center
BEGIN:VEVENT
DTSTART;VALUE=DATE:20240629
DTEND;VALUE=DATE:20240630
DTSTAMP:20260425T105342
CREATED:20240226T224815Z
LAST-MODIFIED:20240226T224815Z
UID:3084-1719619200-1719705599@stockholmkartingcenter.com
SUMMARY:SKC Race Day # 7
DESCRIPTION:
URL:https://stockholmkartingcenter.com/event/skc-race-day-7-4/
CATEGORIES:Upcoming Events
ATTACH;FMTTYPE=image/jpeg:https://stockholmkartingcenter.com/wp-content/uploads/2019/03/FB-Standard-NTS-Photo-Stockholm-8602.jpg
END:VEVENT
END:VCALENDAR