BEGIN:VCALENDAR
VERSION:2.0
PRODID:-//Stockholm Karting Center - ECPv4.7.3//NONSGML v1.0//EN
CALSCALE:GREGORIAN
METHOD:PUBLISH
X-WR-CALNAME:Stockholm Karting Center
X-ORIGINAL-URL:https://stockholmkartingcenter.com
X-WR-CALDESC:Events for Stockholm Karting Center
BEGIN:VEVENT
DTSTART;VALUE=DATE:20260531
DTEND;VALUE=DATE:20260601
DTSTAMP:20260420T132457
CREATED:20260124T142355Z
LAST-MODIFIED:20260409T143955Z
UID:4399-1780185600-1780271999@stockholmkartingcenter.com
SUMMARY:SKC RACE DAY # 4    All Day
DESCRIPTION:
URL:https://stockholmkartingcenter.com/event/skc-race-day-4-5/
CATEGORIES:Upcoming Events
ATTACH;FMTTYPE=image/jpeg:https://stockholmkartingcenter.com/wp-content/uploads/2026/01/IMG_8836.jpeg
END:VEVENT
END:VCALENDAR