BEGIN:VCALENDAR
VERSION:2.0
PRODID:-//Stockholm Karting Center - ECPv4.7.3//NONSGML v1.0//EN
CALSCALE:GREGORIAN
METHOD:PUBLISH
X-WR-CALNAME:Stockholm Karting Center
X-ORIGINAL-URL:https://stockholmkartingcenter.com
X-WR-CALDESC:Events for Stockholm Karting Center
BEGIN:VEVENT
DTSTART;VALUE=DATE:20240512
DTEND;VALUE=DATE:20240513
DTSTAMP:20260422T232013
CREATED:20240226T224108Z
LAST-MODIFIED:20240226T224108Z
UID:3072-1715472000-1715558399@stockholmkartingcenter.com
SUMMARY:SKC Race Day # 2
DESCRIPTION:
URL:https://stockholmkartingcenter.com/event/skc-race-day-2-4/
CATEGORIES:Upcoming Events
ATTACH;FMTTYPE=image/jpeg:https://stockholmkartingcenter.com/wp-content/uploads/2022/01/Website-photo-6.jpg
END:VEVENT
END:VCALENDAR