BEGIN:VCALENDAR
VERSION:2.0
PRODID:-//Stockholm Karting Center - ECPv4.7.3//NONSGML v1.0//EN
CALSCALE:GREGORIAN
METHOD:PUBLISH
X-WR-CALNAME:Stockholm Karting Center
X-ORIGINAL-URL:https://stockholmkartingcenter.com
X-WR-CALDESC:Events for Stockholm Karting Center
BEGIN:VEVENT
DTSTART;TZID=UTC-6:20231008T080000
DTEND;TZID=UTC-6:20231008T170000
DTSTAMP:20260422T170323
CREATED:20230108T195051Z
LAST-MODIFIED:20230108T195051Z
UID:2658-1696752000-1696784400@stockholmkartingcenter.com
SUMMARY:SKC Race Day #18
DESCRIPTION:
URL:https://stockholmkartingcenter.com/event/skc-race-day-18-3/
CATEGORIES:Upcoming Events
ATTACH;FMTTYPE=image/jpeg:https://stockholmkartingcenter.com/wp-content/uploads/2020/01/2020-Website-pic-4.jpg
END:VEVENT
END:VCALENDAR