BEGIN:VCALENDAR
VERSION:2.0
PRODID:-//Stockholm Karting Center - ECPv4.7.3//NONSGML v1.0//EN
CALSCALE:GREGORIAN
METHOD:PUBLISH
X-WR-CALNAME:Stockholm Karting Center
X-ORIGINAL-URL:https://stockholmkartingcenter.com
X-WR-CALDESC:Events for Stockholm Karting Center
BEGIN:VEVENT
DTSTART;VALUE=DATE:20240714
DTEND;VALUE=DATE:20240715
DTSTAMP:20260425T105450
CREATED:20240226T225031Z
LAST-MODIFIED:20240226T225031Z
UID:3090-1720915200-1721001599@stockholmkartingcenter.com
SUMMARY:SKC Race Day # 10
DESCRIPTION:
URL:https://stockholmkartingcenter.com/event/skc-race-day-10-4/
CATEGORIES:Upcoming Events
ATTACH;FMTTYPE=image/jpeg:https://stockholmkartingcenter.com/wp-content/uploads/2021/01/Website-photo-1.jpg
END:VEVENT
END:VCALENDAR