BEGIN:VCALENDAR
VERSION:2.0
PRODID:-//Stockholm Karting Center - ECPv4.7.3//NONSGML v1.0//EN
CALSCALE:GREGORIAN
METHOD:PUBLISH
X-WR-CALNAME:Stockholm Karting Center
X-ORIGINAL-URL:https://stockholmkartingcenter.com
X-WR-CALDESC:Events for Stockholm Karting Center
BEGIN:VEVENT
DTSTART;VALUE=DATE:20240511
DTEND;VALUE=DATE:20240512
DTSTAMP:20260422T220038
CREATED:20240226T224024Z
LAST-MODIFIED:20240226T224024Z
UID:3070-1715385600-1715471999@stockholmkartingcenter.com
SUMMARY:SKC Race Day # 1
DESCRIPTION:
URL:https://stockholmkartingcenter.com/event/skc-race-day-1-4/
CATEGORIES:Upcoming Events
ATTACH;FMTTYPE=image/jpeg:https://stockholmkartingcenter.com/wp-content/uploads/2022/01/Website-photo-5.jpg
END:VEVENT
END:VCALENDAR