BEGIN:VCALENDAR
VERSION:2.0
PRODID:-//Stockholm Karting Center - ECPv4.7.3//NONSGML v1.0//EN
CALSCALE:GREGORIAN
METHOD:PUBLISH
X-WR-CALNAME:Stockholm Karting Center
X-ORIGINAL-URL:https://stockholmkartingcenter.com
X-WR-CALDESC:Events for Stockholm Karting Center
BEGIN:VEVENT
DTSTART;VALUE=DATE:20190824
DTEND;VALUE=DATE:20190825
DTSTAMP:20260420T153423
CREATED:20190309T035722Z
LAST-MODIFIED:20190731T195612Z
UID:1071-1566604800-1566691199@stockholmkartingcenter.com
SUMMARY:SKC Double Header Night Race        (RENTALS NOT AVAILABLE)
DESCRIPTION:
URL:https://stockholmkartingcenter.com/event/skc-double-header-night-race/
CATEGORIES:Upcoming Events
ATTACH;FMTTYPE=image/jpeg:https://stockholmkartingcenter.com/wp-content/uploads/2018/02/night-track.jpg
END:VEVENT
END:VCALENDAR