BEGIN:VCALENDAR
VERSION:2.0
PRODID:-//Stockholm Karting Center - ECPv4.7.3//NONSGML v1.0//EN
CALSCALE:GREGORIAN
METHOD:PUBLISH
X-WR-CALNAME:Stockholm Karting Center
X-ORIGINAL-URL:https://stockholmkartingcenter.com
X-WR-CALDESC:Events for Stockholm Karting Center
BEGIN:VEVENT
DTSTART;TZID=UTC-6:20240724T180000
DTEND;TZID=UTC-6:20240724T200000
DTSTAMP:20260425T120942
CREATED:20240628T184023Z
LAST-MODIFIED:20240628T184023Z
UID:3423-1721844000-1721851200@stockholmkartingcenter.com
SUMMARY:Private Party 6:00-8:00pm
DESCRIPTION:Private Party 6:00-8:00pm \n
URL:https://stockholmkartingcenter.com/event/private-party-600-800pm/
CATEGORIES:Upcoming Events
ATTACH;FMTTYPE=image/jpeg:https://stockholmkartingcenter.com/wp-content/uploads/2022/01/Website-photo-10.jpg
END:VEVENT
END:VCALENDAR