BEGIN:VCALENDAR
VERSION:2.0
PRODID:-//Stockholm Karting Center - ECPv4.7.3//NONSGML v1.0//EN
CALSCALE:GREGORIAN
METHOD:PUBLISH
X-WR-CALNAME:Stockholm Karting Center
X-ORIGINAL-URL:https://stockholmkartingcenter.com
X-WR-CALDESC:Events for Stockholm Karting Center
BEGIN:VEVENT
DTSTART;TZID=UTC-6:20240823T160000
DTEND;TZID=UTC-6:20240823T180000
DTSTAMP:20260425T133526
CREATED:20240810T012004Z
LAST-MODIFIED:20240810T012004Z
UID:3548-1724428800-1724436000@stockholmkartingcenter.com
SUMMARY:Private party 4:00-6:00 pm
DESCRIPTION:
URL:https://stockholmkartingcenter.com/event/private-party-400-600-pm-84/
CATEGORIES:Upcoming Events
ATTACH;FMTTYPE=image/jpeg:https://stockholmkartingcenter.com/wp-content/uploads/2017/09/MGP7.jpg
END:VEVENT
END:VCALENDAR