BEGIN:VCALENDAR
VERSION:2.0
PRODID:-//Stockholm Karting Center - ECPv4.7.3//NONSGML v1.0//EN
CALSCALE:GREGORIAN
METHOD:PUBLISH
X-WR-CALNAME:Stockholm Karting Center
X-ORIGINAL-URL:https://stockholmkartingcenter.com
X-WR-CALDESC:Events for Stockholm Karting Center
BEGIN:VEVENT
DTSTART;TZID=UTC+0:20220824T150000
DTEND;TZID=UTC+0:20220824T170000
DTSTAMP:20260422T020149
CREATED:20220811T041917Z
LAST-MODIFIED:20220811T041917Z
UID:2512-1661353200-1661360400@stockholmkartingcenter.com
SUMMARY:Private party 3:00-5:00 pm
DESCRIPTION:
URL:https://stockholmkartingcenter.com/event/private-party-300-500-pm-13/
CATEGORIES:Upcoming Events
ATTACH;FMTTYPE=image/jpeg:https://stockholmkartingcenter.com/wp-content/uploads/2022/01/Website-photo-10.jpg
END:VEVENT
END:VCALENDAR