BEGIN:VCALENDAR
VERSION:2.0
PRODID:-//Stockholm Karting Center - ECPv4.7.3//NONSGML v1.0//EN
CALSCALE:GREGORIAN
METHOD:PUBLISH
X-WR-CALNAME:Stockholm Karting Center
X-ORIGINAL-URL:https://stockholmkartingcenter.com
X-WR-CALDESC:Events for Stockholm Karting Center
BEGIN:VEVENT
DTSTART;TZID=UTC+0:20190823T090000
DTEND;TZID=UTC+0:20190823T110000
DTSTAMP:20260420T181943
CREATED:20190718T013134Z
LAST-MODIFIED:20190718T013134Z
UID:1244-1566550800-1566558000@stockholmkartingcenter.com
SUMMARY:Private party
DESCRIPTION:
URL:https://stockholmkartingcenter.com/event/private-party-212/
CATEGORIES:Upcoming Events
ATTACH;FMTTYPE=image/jpeg:https://stockholmkartingcenter.com/wp-content/uploads/2017/09/MGP10.jpg
END:VEVENT
END:VCALENDAR