BEGIN:VCALENDAR
VERSION:2.0
PRODID:-//Stockholm Karting Center - ECPv4.7.3//NONSGML v1.0//EN
CALSCALE:GREGORIAN
METHOD:PUBLISH
X-WR-CALNAME:Stockholm Karting Center
X-ORIGINAL-URL:https://stockholmkartingcenter.com
X-WR-CALDESC:Events for Stockholm Karting Center
BEGIN:VEVENT
DTSTART;TZID=UTC-6:20240828T140000
DTEND;TZID=UTC-6:20240828T170000
DTSTAMP:20260425T120942
CREATED:20240717T230418Z
LAST-MODIFIED:20240821T195218Z
UID:3465-1724853600-1724864400@stockholmkartingcenter.com
SUMMARY:Private party 2:00-5:00 pm
DESCRIPTION:Private party 2:00-5:00 pm \n
URL:https://stockholmkartingcenter.com/event/private-party-200-600-pm/
CATEGORIES:Upcoming Events
ATTACH;FMTTYPE=image/jpeg:https://stockholmkartingcenter.com/wp-content/uploads/2022/01/Website-photo-11.jpg
END:VEVENT
END:VCALENDAR