BEGIN:VCALENDAR
VERSION:2.0
PRODID:-//Stockholm Karting Center - ECPv4.7.3//NONSGML v1.0//EN
CALSCALE:GREGORIAN
METHOD:PUBLISH
X-WR-CALNAME:Stockholm Karting Center
X-ORIGINAL-URL:https://stockholmkartingcenter.com
X-WR-CALDESC:Events for Stockholm Karting Center
BEGIN:VEVENT
DTSTART;TZID=UTC-6:20231014T140000
DTEND;TZID=UTC-6:20231014T160000
DTSTAMP:20260422T170155
CREATED:20231014T130929Z
LAST-MODIFIED:20231014T130929Z
UID:3056-1697292000-1697299200@stockholmkartingcenter.com
SUMMARY:Private party 2:00-4:00 pm
DESCRIPTION:
URL:https://stockholmkartingcenter.com/event/private-party-200-400-pm-98/
CATEGORIES:Upcoming Events
ATTACH;FMTTYPE=image/jpeg:https://stockholmkartingcenter.com/wp-content/uploads/2022/01/Website-photo-11.jpg
END:VEVENT
END:VCALENDAR