BEGIN:VCALENDAR
VERSION:2.0
PRODID:-//Stockholm Karting Center - ECPv4.7.3//NONSGML v1.0//EN
CALSCALE:GREGORIAN
METHOD:PUBLISH
X-WR-CALNAME:Stockholm Karting Center
X-ORIGINAL-URL:https://stockholmkartingcenter.com
X-WR-CALDESC:Events for Stockholm Karting Center
BEGIN:VEVENT
DTSTART;TZID=UTC-6:20240824T140000
DTEND;TZID=UTC-6:20240824T160000
DTSTAMP:20260425T133420
CREATED:20240511T022029Z
LAST-MODIFIED:20240818T194945Z
UID:3242-1724508000-1724515200@stockholmkartingcenter.com
SUMMARY:Open Rental Karting 2:00-4:00pm
DESCRIPTION:Open Rental Karting 2:00-4:00pm \n
URL:https://stockholmkartingcenter.com/event/private-party-200-400-pm-105/
CATEGORIES:Upcoming Events
ATTACH;FMTTYPE=image/jpeg:https://stockholmkartingcenter.com/wp-content/uploads/2017/09/MGP7.jpg
END:VEVENT
END:VCALENDAR