BEGIN:VCALENDAR
VERSION:2.0
PRODID:-//Stockholm Karting Center - ECPv4.7.3//NONSGML v1.0//EN
CALSCALE:GREGORIAN
METHOD:PUBLISH
X-WR-CALNAME:Stockholm Karting Center
X-ORIGINAL-URL:https://stockholmkartingcenter.com
X-WR-CALDESC:Events for Stockholm Karting Center
BEGIN:VEVENT
DTSTART;TZID=UTC-6:20240802T120000
DTEND;TZID=UTC-6:20240802T160000
DTSTAMP:20260425T105324
CREATED:20240522T204731Z
LAST-MODIFIED:20240522T204731Z
UID:3257-1722600000-1722614400@stockholmkartingcenter.com
SUMMARY:Private party 12:00-4:00 pm
DESCRIPTION:
URL:https://stockholmkartingcenter.com/event/private-party-1200-400-pm-4/
CATEGORIES:Upcoming Events
ATTACH;FMTTYPE=image/jpeg:https://stockholmkartingcenter.com/wp-content/uploads/2017/03/Rental-karts.jpg
END:VEVENT
END:VCALENDAR