BEGIN:VCALENDAR
VERSION:2.0
PRODID:-//Stockholm Karting Center - ECPv4.7.3//NONSGML v1.0//EN
CALSCALE:GREGORIAN
METHOD:PUBLISH
X-WR-CALNAME:Stockholm Karting Center
X-ORIGINAL-URL:https://stockholmkartingcenter.com
X-WR-CALDESC:Events for Stockholm Karting Center
BEGIN:VEVENT
DTSTART;TZID=UTC-6:20231014T120000
DTEND;TZID=UTC-6:20231014T140000
DTSTAMP:20260422T170058
CREATED:20230827T230919Z
LAST-MODIFIED:20230827T230919Z
UID:2991-1697284800-1697292000@stockholmkartingcenter.com
SUMMARY:Private Party 12:00-2:00pm
DESCRIPTION:Private Party 12:00-2:00pm \n
URL:https://stockholmkartingcenter.com/event/private-party-1200-200pm-6/
CATEGORIES:Upcoming Events
ATTACH;FMTTYPE=image/jpeg:https://stockholmkartingcenter.com/wp-content/uploads/2022/01/Website-photo-11.jpg
END:VEVENT
END:VCALENDAR