BEGIN:VCALENDAR
VERSION:2.0
PRODID:-//Stockholm Karting Center - ECPv4.7.3//NONSGML v1.0//EN
CALSCALE:GREGORIAN
METHOD:PUBLISH
X-WR-CALNAME:Stockholm Karting Center
X-ORIGINAL-URL:https://stockholmkartingcenter.com
X-WR-CALDESC:Events for Stockholm Karting Center
BEGIN:VEVENT
DTSTART;TZID=UTC-6:20240816T120000
DTEND;TZID=UTC-6:20240816T140000
DTSTAMP:20260425T133419
CREATED:20240703T200949Z
LAST-MODIFIED:20240703T200949Z
UID:3432-1723809600-1723816800@stockholmkartingcenter.com
SUMMARY:Private Party 12:00-2:00pm
DESCRIPTION:Private Party 12:00-2:00pm \n
URL:https://stockholmkartingcenter.com/event/private-party-1200-200pm-18/
CATEGORIES:Upcoming Events
ATTACH;FMTTYPE=image/jpeg:https://stockholmkartingcenter.com/wp-content/uploads/2017/09/MGP7.jpg
END:VEVENT
END:VCALENDAR