BEGIN:VCALENDAR
VERSION:2.0
PRODID:-//Stockholm Karting Center - ECPv4.7.3//NONSGML v1.0//EN
CALSCALE:GREGORIAN
METHOD:PUBLISH
X-WR-CALNAME:Stockholm Karting Center
X-ORIGINAL-URL:https://stockholmkartingcenter.com
X-WR-CALDESC:Events for Stockholm Karting Center
BEGIN:VEVENT
DTSTART;TZID=UTC-6:20240504T120000
DTEND;TZID=UTC-6:20240504T140000
DTSTAMP:20260422T134848
CREATED:20240411T190430Z
LAST-MODIFIED:20240411T190430Z
UID:3178-1714824000-1714831200@stockholmkartingcenter.com
SUMMARY:Private party 12:00-2:00 pm
DESCRIPTION:
URL:https://stockholmkartingcenter.com/event/private-party-1200-200-pm-94/
CATEGORIES:Upcoming Events
ATTACH;FMTTYPE=image/jpeg:https://stockholmkartingcenter.com/wp-content/uploads/2017/09/MGP8.jpg
END:VEVENT
END:VCALENDAR