BEGIN:VCALENDAR
VERSION:2.0
PRODID:-//Stockholm Karting Center - ECPv4.7.3//NONSGML v1.0//EN
CALSCALE:GREGORIAN
METHOD:PUBLISH
X-WR-CALNAME:Stockholm Karting Center
X-ORIGINAL-URL:https://stockholmkartingcenter.com
X-WR-CALDESC:Events for Stockholm Karting Center
BEGIN:VEVENT
DTSTART;TZID=UTC-6:20231006T100000
DTEND;TZID=UTC-6:20231006T130000
DTSTAMP:20260422T170329
CREATED:20230907T213333Z
LAST-MODIFIED:20230907T213333Z
UID:3015-1696586400-1696597200@stockholmkartingcenter.com
SUMMARY:Private party 10:00 am-1:00 pm
DESCRIPTION:
URL:https://stockholmkartingcenter.com/event/private-party-1000-am-100-pm-4/
CATEGORIES:Upcoming Events
ATTACH;FMTTYPE=image/jpeg:https://stockholmkartingcenter.com/wp-content/uploads/2017/09/MGP10.jpg
END:VEVENT
END:VCALENDAR