BEGIN:VCALENDAR
VERSION:2.0
PRODID:-//Stockholm Karting Center - ECPv4.7.3//NONSGML v1.0//EN
CALSCALE:GREGORIAN
METHOD:PUBLISH
X-WR-CALNAME:Stockholm Karting Center
X-ORIGINAL-URL:https://stockholmkartingcenter.com
X-WR-CALDESC:Events for Stockholm Karting Center
BEGIN:VEVENT
DTSTART;TZID=UTC-6:20240509T130000
DTEND;TZID=UTC-6:20240509T160000
DTSTAMP:20260422T192033
CREATED:20240419T161916Z
LAST-MODIFIED:20240419T161916Z
UID:3203-1715259600-1715270400@stockholmkartingcenter.com
SUMMARY:Private party 1:00-4:00 pm
DESCRIPTION:
URL:https://stockholmkartingcenter.com/event/private-party-100-400-pm-3/
CATEGORIES:Upcoming Events
ATTACH;FMTTYPE=image/jpeg:https://stockholmkartingcenter.com/wp-content/uploads/2017/03/Rental-karts.jpg
END:VEVENT
END:VCALENDAR