BEGIN:VCALENDAR
VERSION:2.0
PRODID:-//Stockholm Karting Center - ECPv4.7.3//NONSGML v1.0//EN
CALSCALE:GREGORIAN
METHOD:PUBLISH
X-WR-CALNAME:Stockholm Karting Center
X-ORIGINAL-URL:https://stockholmkartingcenter.com
X-WR-CALDESC:Events for Stockholm Karting Center
BEGIN:VEVENT
DTSTART;TZID=UTC-6:20240726T120000
DTEND;TZID=UTC-6:20240726T140000
DTSTAMP:20260425T105648
CREATED:20240720T215709Z
LAST-MODIFIED:20240720T215709Z
UID:3490-1721995200-1722002400@stockholmkartingcenter.com
SUMMARY:Open Rental Karting 12:00-2:00pm
DESCRIPTION:Open Rental Karting 12:00-2:00pm \n
URL:https://stockholmkartingcenter.com/event/open-rental-karting-1200-200pm-2/
CATEGORIES:Upcoming Events
ATTACH;FMTTYPE=image/jpeg:https://stockholmkartingcenter.com/wp-content/uploads/2021/05/IMG_3554.jpg
END:VEVENT
END:VCALENDAR