BEGIN:VCALENDAR
VERSION:2.0
PRODID:-//Stockholm Karting Center - ECPv4.7.3//NONSGML v1.0//EN
CALSCALE:GREGORIAN
METHOD:PUBLISH
X-WR-CALNAME:Stockholm Karting Center
X-ORIGINAL-URL:https://stockholmkartingcenter.com
X-WR-CALDESC:Events for Stockholm Karting Center
BEGIN:VEVENT
DTSTART;TZID=UTC-6:20260508T090000
DTEND;TZID=UTC-6:20260508T190000
DTSTAMP:20260420T093405
CREATED:20260314T141438Z
LAST-MODIFIED:20260314T141438Z
UID:4479-1778230800-1778266800@stockholmkartingcenter.com
SUMMARY:ALL DAY RACER PRACTICE
DESCRIPTION:
URL:https://stockholmkartingcenter.com/event/all-day-racer-practice-3/
CATEGORIES:Upcoming Events
ATTACH;FMTTYPE=image/png:https://stockholmkartingcenter.com/wp-content/uploads/2025/03/Racer-practice-only.png
END:VEVENT
END:VCALENDAR